BEGIN:VCALENDAR
VERSION:2.0
CALSCALE:GREGORIAN
PRODID:adamgibbons/ics
METHOD:PUBLISH
X-PUBLISHED-TTL:PT1H
BEGIN:VEVENT
UID:302@tucsontimeline.info
SUMMARY:A Night of Poetry & Music
DTSTAMP:20260423T081904Z
DTSTART:20250610T023000Z
DTEND:20250610T050000Z
DESCRIPTION:A night of poetry and music.
URL:https://tucsontimeline.info/event/a-night-of-poetry-and-music
LOCATION:A Backyard - 7420 N. Bogert Pl.
STATUS:CONFIRMED
CATEGORIES:
X-ALT-DESC;FMTTYPE=text/html:<p>A night of poetry and music.</p>
END:VEVENT
END:VCALENDAR
